BEGIN:VCALENDAR
VERSION:2.0
PRODID:-//Destination Events - ECPv6.15.17//NONSGML v1.0//EN
CALSCALE:GREGORIAN
METHOD:PUBLISH
X-ORIGINAL-URL:https://events.cedeztravel.com
X-WR-CALDESC:Events for Destination Events
REFRESH-INTERVAL;VALUE=DURATION:PT1H
X-Robots-Tag:noindex
X-PUBLISHED-TTL:PT1H
BEGIN:VTIMEZONE
TZID:America/Jamaica
BEGIN:STANDARD
TZOFFSETFROM:-0500
TZOFFSETTO:-0500
TZNAME:EST
DTSTART:20240101T000000
END:STANDARD
END:VTIMEZONE
BEGIN:VEVENT
DTSTART;TZID=America/Jamaica:20250101T000000
DTEND;TZID=America/Jamaica:20251231T235959
DTSTAMP:20260419T200020
CREATED:20250214T031906Z
LAST-MODIFIED:20250214T032745Z
UID:313-1735689600-1767225599@events.cedeztravel.com
SUMMARY:Sandals Mobay
DESCRIPTION:A new Weddings Lounge with a magnificent Bridal Suite\n Overwater Chapel with stunning ocean views\n Jamaica’s largest exclusive white sand beach\n Exclusive to Sandals Montego Bay is a beautiful\, non-denominational\, newly renovated Chapel located on the\nresort\n Brand new Beachfront Swim up Honeymoon One Bedroom Butler Suites with Patio Tranquility Soaking Tub\nin the new Poinciana Building\n New Crystal Lagoon Honeymoon Ocean view One Bedroom Butler Suites with Balcony Tranquility Soaking\nTubs in the newly renovated Seagrapes Building\n Full exchange privileges with complimentary transfers to Sandals Royal Caribbean\, our sister resort. Enjoy all\nthe luxuries included in our “Stay at One\, Play at Two” concept offering twenty-one (21) Five Star Global\nGourmet Dining options within ten minutes\n Air-conditioned Departure Lounge for late departures \n 
URL:https://events.cedeztravel.com/event/sandals-mobay/
LOCATION:Sandals Mobay\, P.O. Box 100\, Kent Ave\, ay\, St. James\, Jamaica
CATEGORIES:Jamaica Hotels
ATTACH;FMTTYPE=image/jpeg:https://events.cedeztravel.com/wp-content/uploads/2025/02/image.jpg
END:VEVENT
END:VCALENDAR